Package: S4Arrays Version: 1.7.2 Maintainer: Hervé Pagès MaintainerEmail: hpages.on.github at gmail.com git_url: https://git.bioconductor.org/packages/S4Arrays git_branch: devel git_last_commit: bf25e5f git_last_commit_date: 2025-01-14 17:51:59 -0500 (Tue, 14 Jan 2025)