Package: Rsubread Version: 2.21.1 Command: /home/rapidbuild/bbs-3.21-bioc-rapid/R/bin/R CMD INSTALL Rsubread StartedAt: 2025-02-13 12:07:47 -0500 (Thu, 13 Feb 2025) EndedAt: 2025-02-13 12:08:19 -0500 (Thu, 13 Feb 2025) EllapsedTime: 32.0 seconds RetCode: 0 Status: OK