Package: Rsamtools Version: 2.23.1 Command: /home/rapidbuild/bbs-3.21-bioc-rapid/R/bin/R CMD INSTALL Rsamtools StartedAt: 2025-02-05 06:22:21 -0500 (Wed, 05 Feb 2025) EndedAt: 2025-02-05 06:23:01 -0500 (Wed, 05 Feb 2025) EllapsedTime: 40.3 seconds RetCode: 0 Status: OK