Package: Rigraphlib Version: 1.1.2 Command: /home/rapidbuild/bbs-3.22-bioc-rapid/R/bin/R CMD INSTALL Rigraphlib StartedAt: 2025-10-22 06:09:30 -0400 (Wed, 22 Oct 2025) EndedAt: 2025-10-22 06:11:53 -0400 (Wed, 22 Oct 2025) EllapsedTime: 143.1 seconds RetCode: 0 Status: OK