Package: Rigraphlib Version: 1.1.2 Command: /home/rapidbuild/bbs-3.22-bioc-rapid/R/bin/R CMD build --keep-empty-dirs --no-resave-data Rigraphlib StartedAt: 2025-10-22 07:22:50 -0400 (Wed, 22 Oct 2025) EndedAt: 2025-10-22 07:23:05 -0400 (Wed, 22 Oct 2025) EllapsedTime: 14.0 seconds RetCode: 0 Status: OK PackageFile: Rigraphlib_1.1.2.tar.gz PackageFileSize: 4.323 MiB