Package: ResidualMatrix Version: 1.19.0 Command: /home/rapidbuild/bbs-3.22-bioc-rapid/R/bin/R CMD INSTALL ResidualMatrix StartedAt: 2025-04-28 06:14:06 -0400 (Mon, 28 Apr 2025) EndedAt: 2025-04-28 06:14:21 -0400 (Mon, 28 Apr 2025) EllapsedTime: 15.2 seconds RetCode: 0 Status: OK