Package: ReportingTools Version: 2.49.0 Command: /home/rapidbuild/bbs-3.22-bioc-rapid/R/bin/R CMD INSTALL ReportingTools StartedAt: 2025-04-29 06:26:55 -0400 (Tue, 29 Apr 2025) EndedAt: 2025-04-29 06:27:59 -0400 (Tue, 29 Apr 2025) EllapsedTime: 63.5 seconds RetCode: 0 Status: OK