Package: ReportingTools Version: 2.49.0 Command: /home/rapidbuild/bbs-3.22-bioc-rapid/R/bin/R CMD check --install=check:ReportingTools.install-out.txt --library=/home/rapidbuild/bbs-3.22-bioc-rapid/R/site-library --timings ReportingTools_2.49.0.tar.gz StartedAt: 2025-04-30 09:03:41 -0400 (Wed, 30 Apr 2025) EndedAt: 2025-04-30 09:11:56 -0400 (Wed, 30 Apr 2025) EllapsedTime: 495.4 seconds RetCode: 0 Status: OK CheckDir: ReportingTools.Rcheck Warnings: 0