Package: ReportingTools Version: 2.47.0 Command: /home/rapidbuild/bbs-3.21-bioc-rapid/R/bin/R CMD build --keep-empty-dirs --no-resave-data ReportingTools StartedAt: 2025-02-11 07:28:10 -0500 (Tue, 11 Feb 2025) EndedAt: 2025-02-11 07:29:28 -0500 (Tue, 11 Feb 2025) EllapsedTime: 78.4 seconds RetCode: 0 Status: OK PackageFile: ReportingTools_2.47.0.tar.gz PackageFileSize: 1.786 MiB