Package: Rdisop Version: 1.67.5 Command: /home/rapidbuild/bbs-3.21-bioc-rapid/R/bin/R CMD check --install=check:Rdisop.install-out.txt --library=/home/rapidbuild/bbs-3.21-bioc-rapid/R/site-library --timings Rdisop_1.67.5.tar.gz StartedAt: 2025-02-05 09:20:38 -0500 (Wed, 05 Feb 2025) EndedAt: 2025-02-05 09:20:57 -0500 (Wed, 05 Feb 2025) EllapsedTime: 18.3 seconds RetCode: 0 Status: WARNINGS CheckDir: Rdisop.Rcheck Warnings: 1