Package: RProtoBufLib Version: 2.19.0 Command: /home/rapidbuild/bbs-3.21-bioc-rapid/R/bin/R CMD INSTALL RProtoBufLib StartedAt: 2025-02-05 06:04:32 -0500 (Wed, 05 Feb 2025) EndedAt: 2025-02-05 06:08:28 -0500 (Wed, 05 Feb 2025) EllapsedTime: 235.8 seconds RetCode: 0 Status: OK