Package: ROC Version: 1.83.0 Command: /home/rapidbuild/bbs-3.21-bioc-rapid/R/bin/R CMD check --install=check:ROC.install-out.txt --library=/home/rapidbuild/bbs-3.21-bioc-rapid/R/site-library --timings ROC_1.83.0.tar.gz StartedAt: 2025-02-05 09:21:29 -0500 (Wed, 05 Feb 2025) EndedAt: 2025-02-05 09:21:44 -0500 (Wed, 05 Feb 2025) EllapsedTime: 14.3 seconds RetCode: 0 Status: OK CheckDir: ROC.Rcheck Warnings: 0