Package: RBGL Version: 1.83.0 Command: /home/rapidbuild/bbs-3.21-bioc-rapid/R/bin/R CMD INSTALL RBGL StartedAt: 2025-02-11 06:10:08 -0500 (Tue, 11 Feb 2025) EndedAt: 2025-02-11 06:11:39 -0500 (Tue, 11 Feb 2025) EllapsedTime: 90.4 seconds RetCode: 0 Status: OK