Package: QFeatures Version: 1.17.1 Maintainer: Laurent Gatto MaintainerEmail: laurent.gatto at uclouvain.be git_url: https://git.bioconductor.org/packages/QFeatures git_branch: devel git_last_commit: 9be4012 git_last_commit_date: 2025-01-10 05:43:41 -0500 (Fri, 10 Jan 2025)