Package: PSMatch Version: 1.13.2 Command: /home/rapidbuild/bbs-3.22-bioc-rapid/R/bin/R CMD build --keep-empty-dirs --no-resave-data PSMatch StartedAt: 2025-10-01 07:14:22 -0400 (Wed, 01 Oct 2025) EndedAt: 2025-10-01 07:15:52 -0400 (Wed, 01 Oct 2025) EllapsedTime: 89.3 seconds RetCode: 0 Status: OK PackageFile: PSMatch_1.13.2.tar.gz PackageFileSize: 1.727 MiB