Package: OrganismDbi Version: 1.49.0 Command: /home/rapidbuild/bbs-3.21-bioc-rapid/R/bin/R CMD build --keep-empty-dirs --no-resave-data OrganismDbi StartedAt: 2025-02-13 13:11:58 -0500 (Thu, 13 Feb 2025) EndedAt: 2025-02-13 13:12:56 -0500 (Thu, 13 Feb 2025) EllapsedTime: 58.6 seconds RetCode: 0 Status: OK PackageFile: OrganismDbi_1.49.0.tar.gz PackageFileSize: 387.3 KiB