Package: MultiAssayExperiment Version: 1.35.3 Command: /home/rapidbuild/bbs-3.22-bioc-rapid/R/bin/R CMD check --install=check:MultiAssayExperiment.install-out.txt --library=/home/rapidbuild/bbs-3.22-bioc-rapid/R/site-library --timings MultiAssayExperiment_1.35.3.tar.gz StartedAt: 2025-05-19 14:52:40 -0400 (Mon, 19 May 2025) EndedAt: 2025-05-19 14:56:14 -0400 (Mon, 19 May 2025) EllapsedTime: 214.4 seconds RetCode: 0 Status: OK CheckDir: MultiAssayExperiment.Rcheck Warnings: 0