Package: MultiAssayExperiment Version: 1.37.1 Maintainer: Marcel Ramos MaintainerEmail: marcel.ramos at sph.cuny.edu git_url: https://git.bioconductor.org/packages/MultiAssayExperiment git_branch: devel git_last_commit: 908499d git_last_commit_date: 2025-11-04 13:59:26 -0500 (Tue, 04 Nov 2025)