Package: MsFeatures Version: 1.15.0 Command: /home/rapidbuild/bbs-3.21-bioc-rapid/R/bin/R CMD INSTALL MsFeatures StartedAt: 2025-02-06 06:22:19 -0500 (Thu, 06 Feb 2025) EndedAt: 2025-02-06 06:22:38 -0500 (Thu, 06 Feb 2025) EllapsedTime: 19.4 seconds RetCode: 0 Status: OK