Package: MsFeatures Version: 1.17.0 Command: /home/rapidbuild/bbs-3.22-bioc-rapid/R/bin/R CMD build --keep-empty-dirs --no-resave-data MsFeatures StartedAt: 2025-05-04 07:11:57 -0400 (Sun, 04 May 2025) EndedAt: 2025-05-04 07:12:26 -0400 (Sun, 04 May 2025) EllapsedTime: 29.0 seconds RetCode: 0 Status: OK PackageFile: MsFeatures_1.17.0.tar.gz PackageFileSize: 1.432 MiB