Package: MsExperiment Version: 1.9.1 Command: /home/rapidbuild/bbs-3.21-bioc-rapid/R/bin/R CMD INSTALL MsExperiment StartedAt: 2025-02-11 06:21:12 -0500 (Tue, 11 Feb 2025) EndedAt: 2025-02-11 06:21:39 -0500 (Tue, 11 Feb 2025) EllapsedTime: 27.1 seconds RetCode: 0 Status: OK