Package: MsExperiment Version: 1.9.1 Command: /home/rapidbuild/bbs-3.21-bioc-rapid/R/bin/R CMD check --install=check:MsExperiment.install-out.txt --library=/home/rapidbuild/bbs-3.21-bioc-rapid/R/site-library --timings MsExperiment_1.9.1.tar.gz StartedAt: 2025-02-11 09:16:38 -0500 (Tue, 11 Feb 2025) EndedAt: 2025-02-11 09:20:52 -0500 (Tue, 11 Feb 2025) EllapsedTime: 254.1 seconds RetCode: 0 Status: OK CheckDir: MsExperiment.Rcheck Warnings: 0