Package: MsExperiment Version: 1.9.1 Command: /home/rapidbuild/bbs-3.21-bioc-rapid/R/bin/R CMD build --keep-empty-dirs --no-resave-data MsExperiment StartedAt: 2025-02-11 07:16:48 -0500 (Tue, 11 Feb 2025) EndedAt: 2025-02-11 07:18:09 -0500 (Tue, 11 Feb 2025) EllapsedTime: 81.3 seconds RetCode: 0 Status: OK PackageFile: MsExperiment_1.9.1.tar.gz PackageFileSize: 1.917 MiB