Package: MsDataHub Version: 1.7.0 Command: /home/rapidbuild/bbs-3.21-bioc-rapid/R/bin/R CMD check --install=check:MsDataHub.install-out.txt --library=/home/rapidbuild/bbs-3.21-bioc-rapid/R/site-library --timings MsDataHub_1.7.0.tar.gz StartedAt: 2025-02-05 09:09:22 -0500 (Wed, 05 Feb 2025) EndedAt: 2025-02-05 09:13:22 -0500 (Wed, 05 Feb 2025) EllapsedTime: 240.4 seconds RetCode: 0 Status: OK CheckDir: MsDataHub.Rcheck Warnings: 0