Package: MsDataHub Version: 1.7.0 Command: /home/rapidbuild/bbs-3.21-bioc-rapid/R/bin/R CMD build --keep-empty-dirs --no-resave-data MsDataHub StartedAt: 2025-02-10 07:16:46 -0500 (Mon, 10 Feb 2025) EndedAt: 2025-02-10 07:19:37 -0500 (Mon, 10 Feb 2025) EllapsedTime: 171.3 seconds RetCode: 0 Status: OK PackageFile: MsDataHub_1.7.0.tar.gz PackageFileSize: 368.9 KiB