Package: MsBackendSql Version: 1.7.3 Command: /home/rapidbuild/bbs-3.21-bioc-rapid/R/bin/R CMD check --install=check:MsBackendSql.install-out.txt --library=/home/rapidbuild/bbs-3.21-bioc-rapid/R/site-library --timings MsBackendSql_1.7.3.tar.gz StartedAt: 2025-02-11 09:16:17 -0500 (Tue, 11 Feb 2025) EndedAt: 2025-02-11 09:21:19 -0500 (Tue, 11 Feb 2025) EllapsedTime: 302.0 seconds RetCode: 0 Status: OK CheckDir: MsBackendSql.Rcheck Warnings: 0