Package: MsBackendMgf Version: 1.15.2 Command: /home/rapidbuild/bbs-3.21-bioc-rapid/R/bin/R CMD INSTALL MsBackendMgf StartedAt: 2025-02-05 06:16:34 -0500 (Wed, 05 Feb 2025) EndedAt: 2025-02-05 06:16:43 -0500 (Wed, 05 Feb 2025) EllapsedTime: 9.3 seconds RetCode: 0 Status: OK