Package: MsBackendMgf Version: 1.15.2 Command: /home/rapidbuild/bbs-3.21-bioc-rapid/R/bin/R CMD build --keep-empty-dirs --no-resave-data MsBackendMgf StartedAt: 2025-02-05 07:12:40 -0500 (Wed, 05 Feb 2025) EndedAt: 2025-02-05 07:12:55 -0500 (Wed, 05 Feb 2025) EllapsedTime: 15.0 seconds RetCode: 0 Status: OK PackageFile: MsBackendMgf_1.15.2.tar.gz PackageFileSize: 328.1 KiB