Package: MassSpecWavelet Version: 1.75.0 Command: /home/rapidbuild/bbs-3.22-bioc-rapid/R/bin/R CMD check --install=check:MassSpecWavelet.install-out.txt --library=/home/rapidbuild/bbs-3.22-bioc-rapid/R/site-library --timings MassSpecWavelet_1.75.0.tar.gz StartedAt: 2025-04-30 08:46:21 -0400 (Wed, 30 Apr 2025) EndedAt: 2025-04-30 08:47:18 -0400 (Wed, 30 Apr 2025) EllapsedTime: 56.6 seconds RetCode: 0 Status: OK CheckDir: MassSpecWavelet.Rcheck Warnings: 0