Package: MassSpecWavelet Version: 1.75.0 Command: /home/rapidbuild/bbs-3.22-bioc-rapid/R/bin/R CMD build --keep-empty-dirs --no-resave-data MassSpecWavelet StartedAt: 2025-04-30 07:05:33 -0400 (Wed, 30 Apr 2025) EndedAt: 2025-04-30 07:06:12 -0400 (Wed, 30 Apr 2025) EllapsedTime: 39.0 seconds RetCode: 0 Status: OK PackageFile: MassSpecWavelet_1.75.0.tar.gz PackageFileSize: 2.169 MiB