Package: LoomExperiment Version: 1.25.0 Command: /home/rapidbuild/bbs-3.21-bioc-rapid/R/bin/R CMD check --install=check:LoomExperiment.install-out.txt --library=/home/rapidbuild/bbs-3.21-bioc-rapid/R/site-library --timings LoomExperiment_1.25.0.tar.gz StartedAt: 2025-02-05 09:04:04 -0500 (Wed, 05 Feb 2025) EndedAt: 2025-02-05 09:06:55 -0500 (Wed, 05 Feb 2025) EllapsedTime: 170.7 seconds RetCode: 0 Status: OK CheckDir: LoomExperiment.Rcheck Warnings: 0