Package: LoomExperiment Version: 1.25.0 Command: /home/rapidbuild/bbs-3.21-bioc-rapid/R/bin/R CMD build --keep-empty-dirs --no-resave-data LoomExperiment StartedAt: 2025-02-05 07:08:57 -0500 (Wed, 05 Feb 2025) EndedAt: 2025-02-05 07:09:34 -0500 (Wed, 05 Feb 2025) EllapsedTime: 37.6 seconds RetCode: 0 Status: OK PackageFile: LoomExperiment_1.25.0.tar.gz PackageFileSize: 253 KiB