Package: KEGGgraph Version: 1.67.0 Command: /home/rapidbuild/bbs-3.21-bioc-rapid/R/bin/R CMD INSTALL KEGGgraph StartedAt: 2025-02-06 06:16:03 -0500 (Thu, 06 Feb 2025) EndedAt: 2025-02-06 06:16:08 -0500 (Thu, 06 Feb 2025) EllapsedTime: 5.0 seconds RetCode: 0 Status: OK