Package: KEGGgraph Version: 1.67.0 Command: /home/rapidbuild/bbs-3.21-bioc-rapid/R/bin/R CMD check --install=check:KEGGgraph.install-out.txt --library=/home/rapidbuild/bbs-3.21-bioc-rapid/R/site-library --timings KEGGgraph_1.67.0.tar.gz StartedAt: 2025-02-06 08:57:36 -0500 (Thu, 06 Feb 2025) EndedAt: 2025-02-06 08:58:50 -0500 (Thu, 06 Feb 2025) EllapsedTime: 74.3 seconds RetCode: 0 Status: WARNINGS CheckDir: KEGGgraph.Rcheck Warnings: 1