Package: KEGGREST Version: 1.47.0 Command: /home/rapidbuild/bbs-3.21-bioc-rapid/R/bin/R CMD check --install=check:KEGGREST.install-out.txt --library=/home/rapidbuild/bbs-3.21-bioc-rapid/R/site-library --timings KEGGREST_1.47.0.tar.gz StartedAt: 2025-02-05 09:03:25 -0500 (Wed, 05 Feb 2025) EndedAt: 2025-02-05 09:06:34 -0500 (Wed, 05 Feb 2025) EllapsedTime: 189.0 seconds RetCode: 0 Status: OK CheckDir: KEGGREST.Rcheck Warnings: 0