Package: KEGGREST Version: 1.47.0 Command: /home/rapidbuild/bbs-3.21-bioc-rapid/R/bin/R CMD build --keep-empty-dirs --no-resave-data KEGGREST StartedAt: 2025-02-05 07:08:49 -0500 (Wed, 05 Feb 2025) EndedAt: 2025-02-05 07:09:17 -0500 (Wed, 05 Feb 2025) EllapsedTime: 28.0 seconds RetCode: 0 Status: OK PackageFile: KEGGREST_1.47.0.tar.gz PackageFileSize: 233.5 KiB