Package: IRanges Version: 2.41.2 Command: /home/rapidbuild/bbs-3.21-bioc-rapid/R/bin/R CMD check --install=check:IRanges.install-out.txt --library=/home/rapidbuild/bbs-3.21-bioc-rapid/R/site-library --timings IRanges_2.41.2.tar.gz StartedAt: 2025-02-05 09:01:25 -0500 (Wed, 05 Feb 2025) EndedAt: 2025-02-05 09:04:08 -0500 (Wed, 05 Feb 2025) EllapsedTime: 162.7 seconds RetCode: 1 Status: ERROR CheckDir: IRanges.Rcheck Warnings: NA