Package: IRanges Version: 2.41.2 Command: /home/rapidbuild/bbs-3.21-bioc-rapid/R/bin/R CMD build --keep-empty-dirs --no-resave-data IRanges StartedAt: 2025-02-05 07:07:13 -0500 (Wed, 05 Feb 2025) EndedAt: 2025-02-05 07:08:12 -0500 (Wed, 05 Feb 2025) EllapsedTime: 59.3 seconds RetCode: 0 Status: OK PackageFile: IRanges_2.41.2.tar.gz PackageFileSize: 469.9 KiB