Package: IHW Version: 1.35.0 Command: /home/rapidbuild/bbs-3.21-bioc-rapid/R/bin/R CMD INSTALL IHW StartedAt: 2025-02-11 06:11:26 -0500 (Tue, 11 Feb 2025) EndedAt: 2025-02-11 06:11:29 -0500 (Tue, 11 Feb 2025) EllapsedTime: 3.0 seconds RetCode: 0 Status: OK