Package: IHW Version: 1.35.0 Command: /home/rapidbuild/bbs-3.21-bioc-rapid/R/bin/R CMD build --keep-empty-dirs --no-resave-data IHW StartedAt: 2025-02-11 07:06:55 -0500 (Tue, 11 Feb 2025) EndedAt: 2025-02-11 07:09:04 -0500 (Tue, 11 Feb 2025) EllapsedTime: 128.8 seconds RetCode: 0 Status: OK PackageFile: IHW_1.35.0.tar.gz PackageFileSize: 4.09 MiB