Package: HubPub Version: 1.15.3 Command: /home/rapidbuild/bbs-3.21-bioc-rapid/R/bin/R CMD INSTALL HubPub StartedAt: 2025-02-05 06:16:58 -0500 (Wed, 05 Feb 2025) EndedAt: 2025-02-05 06:17:02 -0500 (Wed, 05 Feb 2025) EllapsedTime: 3.4 seconds RetCode: 0 Status: OK