Package: HubPub Version: 1.15.3 Command: /home/rapidbuild/bbs-3.21-bioc-rapid/R/bin/R CMD check --install=check:HubPub.install-out.txt --library=/home/rapidbuild/bbs-3.21-bioc-rapid/R/site-library --timings HubPub_1.15.3.tar.gz StartedAt: 2025-02-05 08:58:25 -0500 (Wed, 05 Feb 2025) EndedAt: 2025-02-05 09:00:59 -0500 (Wed, 05 Feb 2025) EllapsedTime: 153.7 seconds RetCode: 0 Status: OK CheckDir: HubPub.Rcheck Warnings: 0