Package: HubPub Version: 1.15.3 Command: /home/rapidbuild/bbs-3.21-bioc-rapid/R/bin/R CMD build --keep-empty-dirs --no-resave-data HubPub StartedAt: 2025-02-05 07:05:25 -0500 (Wed, 05 Feb 2025) EndedAt: 2025-02-05 07:05:58 -0500 (Wed, 05 Feb 2025) EllapsedTime: 33.0 seconds RetCode: 0 Status: OK PackageFile: HubPub_1.15.3.tar.gz PackageFileSize: 548.7 KiB