Package: HDF5Array Version: 1.35.12 Command: /home/rapidbuild/bbs-3.21-bioc-rapid/R/bin/R CMD check --install=check:HDF5Array.install-out.txt --library=/home/rapidbuild/bbs-3.21-bioc-rapid/R/site-library --timings HDF5Array_1.35.12.tar.gz StartedAt: 2025-02-10 08:57:13 -0500 (Mon, 10 Feb 2025) EndedAt: 2025-02-10 09:32:28 -0500 (Mon, 10 Feb 2025) EllapsedTime: 2114.1 seconds RetCode: 0 Status: OK CheckDir: HDF5Array.Rcheck Warnings: 0