Package: HDF5Array Version: 1.35.12 Command: /home/rapidbuild/bbs-3.21-bioc-rapid/R/bin/R CMD build --keep-empty-dirs --no-resave-data HDF5Array StartedAt: 2025-02-10 07:07:14 -0500 (Mon, 10 Feb 2025) EndedAt: 2025-02-10 07:39:27 -0500 (Mon, 10 Feb 2025) EllapsedTime: 1933.1 seconds RetCode: 0 Status: OK PackageFile: HDF5Array_1.35.12.tar.gz PackageFileSize: 7.958 MiB