Package: HDF5Array Version: 1.35.11 Maintainer: Hervé Pagès MaintainerEmail: hpages.on.github at gmail.com git_url: https://git.bioconductor.org/packages/HDF5Array git_branch: devel git_last_commit: 9dba0b6 git_last_commit_date: 2025-02-04 15:02:07 -0500 (Tue, 04 Feb 2025)