Package: Gviz Version: 1.51.0 Command: /home/rapidbuild/bbs-3.21-bioc-rapid/R/bin/R CMD build --keep-empty-dirs --no-resave-data Gviz StartedAt: 2025-02-05 07:02:01 -0500 (Wed, 05 Feb 2025) EndedAt: 2025-02-05 07:04:54 -0500 (Wed, 05 Feb 2025) EllapsedTime: 173.0 seconds RetCode: 0 Status: OK PackageFile: Gviz_1.51.0.tar.gz PackageFileSize: 7.319 MiB