Package: GenomicFeatures Version: 1.59.1 Command: /home/rapidbuild/bbs-3.21-bioc-rapid/R/bin/R CMD INSTALL GenomicFeatures StartedAt: 2025-02-10 06:25:18 -0500 (Mon, 10 Feb 2025) EndedAt: 2025-02-10 06:26:00 -0500 (Mon, 10 Feb 2025) EllapsedTime: 42.4 seconds RetCode: 0 Status: OK