Package: GenomeInfoDb Version: 1.43.4 Command: /home/rapidbuild/bbs-3.21-bioc-rapid/R/bin/R CMD INSTALL GenomeInfoDb StartedAt: 2025-02-06 06:18:27 -0500 (Thu, 06 Feb 2025) EndedAt: 2025-02-06 06:18:37 -0500 (Thu, 06 Feb 2025) EllapsedTime: 10.2 seconds RetCode: 0 Status: OK