Package: GSVA Version: 2.1.5 Command: /home/rapidbuild/bbs-3.21-bioc-rapid/R/bin/R CMD INSTALL GSVA StartedAt: 2025-02-11 06:22:33 -0500 (Tue, 11 Feb 2025) EndedAt: 2025-02-11 06:23:09 -0500 (Tue, 11 Feb 2025) EllapsedTime: 36.1 seconds RetCode: 0 Status: OK